BEGIN:VCALENDAR
VERSION:2.0
PRODID:-//Tangley Parish Council//Meeting Calendar//EN
CALSCALE:GREGORIAN
METHOD:PUBLISH
BEGIN:VEVENT
UID:71450-20261207@tangleyparish.gov.uk
DTSTAMP:20260421T084049Z
DTSTART;VALUE=DATE:20261207
DTEND;VALUE=DATE:20261208
SUMMARY:7 December 2026
DESCRIPTION:Parish Council Meeting\nView details: https://tangleyparish.gov.uk/meetings/7-december-2026/
URL:https://tangleyparish.gov.uk/meetings/7-december-2026/
END:VEVENT
END:VCALENDAR
