BEGIN:VCALENDAR
VERSION:2.0
PRODID:-//Tangley Parish Council//Meeting Calendar//EN
CALSCALE:GREGORIAN
METHOD:PUBLISH
BEGIN:VEVENT
UID:71309-20251208@tangleyparish.gov.uk
DTSTAMP:20260421T110335Z
DTSTART;VALUE=DATE:20251208
DTEND;VALUE=DATE:20251209
SUMMARY:8 December 2025
DESCRIPTION:Parish Council Meeting\nView details: https://tangleyparish.gov.uk/meetings/meeting-name-here-12/
URL:https://tangleyparish.gov.uk/meetings/meeting-name-here-12/
END:VEVENT
END:VCALENDAR
