BEGIN:VCALENDAR
VERSION:2.0
PRODID:-//Tangley Parish Council//Meeting Calendar//EN
CALSCALE:GREGORIAN
METHOD:PUBLISH
BEGIN:VEVENT
UID:71302-20250113@tangleyparish.gov.uk
DTSTAMP:20260421T083019Z
DTSTART;VALUE=DATE:20250113
DTEND;VALUE=DATE:20250114
SUMMARY:13 January 2025 &#8211\\; Budget
DESCRIPTION:Parish Council Meeting\nView details: https://tangleyparish.gov.uk/meetings/meeting-name-here-5/
URL:https://tangleyparish.gov.uk/meetings/meeting-name-here-5/
END:VEVENT
END:VCALENDAR
