BEGIN:VCALENDAR
VERSION:2.0
PRODID:-//Tangley Parish Council//Meeting Calendar//EN
CALSCALE:GREGORIAN
METHOD:PUBLISH
BEGIN:VEVENT
UID:71295-20241202@tangleyparish.gov.uk
DTSTAMP:20260421T095149Z
DTSTART;VALUE=DATE:20241202
DTEND;VALUE=DATE:20241203
SUMMARY:2 December 2024
DESCRIPTION:Parish Council Meeting\nView details: https://tangleyparish.gov.uk/meetings/2-december-2024/
URL:https://tangleyparish.gov.uk/meetings/2-december-2024/
END:VEVENT
END:VCALENDAR
