BEGIN:VCALENDAR
VERSION:2.0
PRODID:-//Tangley Parish Council//Meeting Calendar//EN
CALSCALE:GREGORIAN
METHOD:PUBLISH
BEGIN:VEVENT
UID:71234-20241014@tangleyparish.gov.uk
DTSTAMP:20260421T105835Z
DTSTART;VALUE=DATE:20241014
DTEND;VALUE=DATE:20241015
SUMMARY:14 October 2024
DESCRIPTION:Parish Council Meeting\nView details: https://tangleyparish.gov.uk/meetings/meeting-name-here-4/
URL:https://tangleyparish.gov.uk/meetings/meeting-name-here-4/
END:VEVENT
END:VCALENDAR
