BEGIN:VCALENDAR
VERSION:2.0
PRODID:-//Tangley Parish Council//Meeting Calendar//EN
CALSCALE:GREGORIAN
METHOD:PUBLISH
BEGIN:VEVENT
UID:70913-20240226@tangleyparish.gov.uk
DTSTAMP:20260425T120509Z
DTSTART;VALUE=DATE:20240226
DTEND;VALUE=DATE:20240227
SUMMARY:26 February 2024
DESCRIPTION:Parish Council Meeting\nView details: https://tangleyparish.gov.uk/meetings/meeting-name-here-2/
URL:https://tangleyparish.gov.uk/meetings/meeting-name-here-2/
END:VEVENT
END:VCALENDAR
