BEGIN:VCALENDAR
VERSION:2.0
PRODID:-//Tangley Parish Council//Meeting Calendar//EN
CALSCALE:GREGORIAN
METHOD:PUBLISH
BEGIN:VEVENT
UID:70873-20240115@tangleyparish.gov.uk
DTSTAMP:20260425T132332Z
DTSTART;VALUE=DATE:20240115
DTEND;VALUE=DATE:20240116
SUMMARY:Agenda 15 January 2024
DESCRIPTION:Parish Council Meeting\nView details: https://tangleyparish.gov.uk/meetings/agenda-15-january-2024/
URL:https://tangleyparish.gov.uk/meetings/agenda-15-january-2024/
END:VEVENT
END:VCALENDAR
