BEGIN:VCALENDAR
VERSION:2.0
PRODID:-//Tangley Parish Council//Meeting Calendar//EN
CALSCALE:GREGORIAN
METHOD:PUBLISH
BEGIN:VEVENT
UID:70871-20240115@tangleyparish.gov.uk
DTSTAMP:20260425T132348Z
DTSTART;VALUE=DATE:20240115
DTEND;VALUE=DATE:20240116
SUMMARY:15 January 2024 Minutes
DESCRIPTION:Parish Council Meeting\nView details: https://tangleyparish.gov.uk/meetings/15-january-2024-minutes/
URL:https://tangleyparish.gov.uk/meetings/15-january-2024-minutes/
END:VEVENT
END:VCALENDAR
