BEGIN:VCALENDAR
VERSION:2.0
PRODID:-//Tangley Parish Council//Meeting Calendar//EN
CALSCALE:GREGORIAN
METHOD:PUBLISH
BEGIN:VEVENT
UID:70659-20240226@tangleyparish.gov.uk
DTSTAMP:20260425T120506Z
DTSTART;VALUE=DATE:20240226
DTEND;VALUE=DATE:20240227
SUMMARY:Council Meeting &#8211\\; 26 February 2024
DESCRIPTION:Parish Council Meeting\nView details: https://tangleyparish.gov.uk/meetings/council-meeting-26-february-2024/
URL:https://tangleyparish.gov.uk/meetings/council-meeting-26-february-2024/
END:VEVENT
END:VCALENDAR
