BEGIN:VCALENDAR
VERSION:2.0
PRODID:-//Tangley Parish Council//Meeting Calendar//EN
CALSCALE:GREGORIAN
METHOD:PUBLISH
BEGIN:VEVENT
UID:70480-20190408@tangleyparish.gov.uk
DTSTAMP:20260423T081718Z
DTSTART;VALUE=DATE:20190408
DTEND;VALUE=DATE:20190409
SUMMARY:Council Meeting &#8211\\; 8 April 2019
DESCRIPTION:Parish Council Meeting\nView details: https://tangleyparish.gov.uk/meetings/council-meeting-8-april-2019/
URL:https://tangleyparish.gov.uk/meetings/council-meeting-8-april-2019/
END:VEVENT
END:VCALENDAR
