BEGIN:VCALENDAR
VERSION:2.0
PRODID:-//Tangley Parish Council//Meeting Calendar//EN
CALSCALE:GREGORIAN
METHOD:PUBLISH
BEGIN:VEVENT
UID:70450-20201019@tangleyparish.gov.uk
DTSTAMP:20260425T120624Z
DTSTART;VALUE=DATE:20201019
DTEND;VALUE=DATE:20201020
SUMMARY:Council Meeting &#8211\\; 19 October 2020
DESCRIPTION:Parish Council Meeting\nView details: https://tangleyparish.gov.uk/meetings/council-meeting-19-october-2020/
URL:https://tangleyparish.gov.uk/meetings/council-meeting-19-october-2020/
END:VEVENT
END:VCALENDAR
