BEGIN:VCALENDAR
VERSION:2.0
PRODID:-//Tangley Parish Council//Meeting Calendar//EN
CALSCALE:GREGORIAN
METHOD:PUBLISH
BEGIN:VEVENT
UID:70448-20201207@tangleyparish.gov.uk
DTSTAMP:20260425T115358Z
DTSTART;VALUE=DATE:20201207
DTEND;VALUE=DATE:20201208
SUMMARY:Council Meeting &#8211\\; 7 December 2020
DESCRIPTION:Parish Council Meeting\nView details: https://tangleyparish.gov.uk/meetings/council-meeting-7-december-2020/
URL:https://tangleyparish.gov.uk/meetings/council-meeting-7-december-2020/
END:VEVENT
END:VCALENDAR
