BEGIN:VCALENDAR
VERSION:2.0
PRODID:-//Tangley Parish Council//Meeting Calendar//EN
CALSCALE:GREGORIAN
METHOD:PUBLISH
BEGIN:VEVENT
UID:70446-20210111@tangleyparish.gov.uk
DTSTAMP:20260425T120739Z
DTSTART;VALUE=DATE:20210111
DTEND;VALUE=DATE:20210112
SUMMARY:Council Meeting &#8211\\; 11 January 2021
DESCRIPTION:Parish Council Meeting\nView details: https://tangleyparish.gov.uk/meetings/council-meeting-11-january-2021/
URL:https://tangleyparish.gov.uk/meetings/council-meeting-11-january-2021/
END:VEVENT
END:VCALENDAR
