BEGIN:VCALENDAR
VERSION:2.0
PRODID:-//Tangley Parish Council//Meeting Calendar//EN
CALSCALE:GREGORIAN
METHOD:PUBLISH
BEGIN:VEVENT
UID:70437-20210524@tangleyparish.gov.uk
DTSTAMP:20260425T104304Z
DTSTART;VALUE=DATE:20210524
DTEND;VALUE=DATE:20210525
SUMMARY:Annual Council Meeting &#8211\\; 24 May 2021
DESCRIPTION:Annual Parish Meetings Meeting\nView details: https://tangleyparish.gov.uk/meetings/annual-council-meeting-24-may-2021/
URL:https://tangleyparish.gov.uk/meetings/annual-council-meeting-24-may-2021/
END:VEVENT
END:VCALENDAR
