BEGIN:VCALENDAR
VERSION:2.0
PRODID:-//Tangley Parish Council//Meeting Calendar//EN
CALSCALE:GREGORIAN
METHOD:PUBLISH
BEGIN:VEVENT
UID:70428-20211206@tangleyparish.gov.uk
DTSTAMP:20260425T142730Z
DTSTART;VALUE=DATE:20211206
DTEND;VALUE=DATE:20211207
SUMMARY:Council Meeting &#8211\\; 6 December 2021
DESCRIPTION:Parish Council Meeting\nView details: https://tangleyparish.gov.uk/meetings/council-meeting-6-december-2021/
URL:https://tangleyparish.gov.uk/meetings/council-meeting-6-december-2021/
END:VEVENT
END:VCALENDAR
